BEGIN:VCALENDAR
VERSION:2.0
PRODID:-//Trinity College Queensland - ECPv6.15.20//NONSGML v1.0//EN
CALSCALE:GREGORIAN
METHOD:PUBLISH
X-WR-CALNAME:Trinity College Queensland
X-ORIGINAL-URL:https://www.trinity.qld.edu.au
X-WR-CALDESC:Events for Trinity College Queensland
REFRESH-INTERVAL;VALUE=DURATION:PT1H
X-Robots-Tag:noindex
X-PUBLISHED-TTL:PT1H
BEGIN:VTIMEZONE
TZID:Australia/Brisbane
BEGIN:STANDARD
TZOFFSETFROM:+1000
TZOFFSETTO:+1000
TZNAME:AEST
DTSTART:20240101T000000
END:STANDARD
END:VTIMEZONE
BEGIN:VEVENT
DTSTART;TZID=Australia/Brisbane:20250321T163000
DTEND;TZID=Australia/Brisbane:20250321T180000
DTSTAMP:20260422T084541
CREATED:20241127T020547Z
LAST-MODIFIED:20250117T020004Z
UID:10000048-1742574600-1742580000@www.trinity.qld.edu.au
SUMMARY:Trinity College QLD Graduation Ceremony 2025
DESCRIPTION:Congratulations to all of our college graduates from 2024! You are formally invited to our Graduation Ceremony. \nTrinity College Queensland invites you to attend the 2025 Graduation Ceremony\, at which 2024 awards of the Australian College of Theology will be presented. Join us from 4:30pm for tea\, coffee\, and light refreshments prior to the 5:00pm Graduation Service. \nFriday March 21st 4:30pm to 6pm at Trinity College Queensland\, Level 1\, 60 Bayliss Street\, Auchenflower. \nPlease note that parking is available on-site as well as in the side streets. We encourage people to advise their guests to allow time to find parking. \nTo RSVP: please contact ask@trinity.qld.edu.au to confirm your attendance. \nPlease RSVP below by: Friday 14 March\, 2025
URL:https://www.trinity.qld.edu.au/event/graduation-2025/
LOCATION:Trinity College Campus\, Level 1\, 60 Bayliss Street\, Auchenflower\, QLD\, 4066\, Australia
CATEGORIES:Other Events
ATTACH;FMTTYPE=image/webp:https://www.trinity.qld.edu.au/wp-content/uploads/2024/11/Trinity-Graduation-2025-Event-scaled.webp
END:VEVENT
END:VCALENDAR