BEGIN:VCALENDAR
VERSION:2.0
PRODID:-//Trinity College Queensland - ECPv6.15.20//NONSGML v1.0//EN
CALSCALE:GREGORIAN
METHOD:PUBLISH
X-ORIGINAL-URL:https://www.trinity.qld.edu.au
X-WR-CALDESC:Events for Trinity College Queensland
REFRESH-INTERVAL;VALUE=DURATION:PT1H
X-Robots-Tag:noindex
X-PUBLISHED-TTL:PT1H
BEGIN:VTIMEZONE
TZID:Australia/Brisbane
BEGIN:STANDARD
TZOFFSETFROM:+1000
TZOFFSETTO:+1000
TZNAME:AEST
DTSTART:20240101T000000
END:STANDARD
END:VTIMEZONE
BEGIN:VEVENT
DTSTART;VALUE=DATE:20250719
DTEND;VALUE=DATE:20251008
DTSTAMP:20260421T233342
CREATED:20250709T225351Z
LAST-MODIFIED:20250718T005545Z
UID:10000010-1752883200-1759881599@www.trinity.qld.edu.au
SUMMARY:Faith and the Arts Competition
DESCRIPTION:Faith and the Arts Competition\n\nIs creative expression informed by the Spirit? Is there a relationship between how human creativity works and the Creator God? \nFour inspiring and well-known artists will discuss integrating these two aspects of their lives when they appear as part of Trinity College’s Faith and the Arts program\, which launches next month.  \nUnit coordinator Dr Scott Downman said God created humans with a capacity to be imaginative and inventive and the arts provides an outlet for creative expressions of faith. \n“This unit explores how faith and spirituality go far beyond statements of belief\,” Dr Downman said. \nTrinity College Queensland is offering four Friday night “performances”\, one per month from July to October. Guests are jazz musician Chris Poulsen and friends\, celebrated young adult author Claire Zorn\, and our very own award-winning documentary maker Scott Downman. \n\n\nFaith and the Arts at Trinity College Queensland celebrates the beautiful intersection of creativity and faith. \nWe’re inviting you to get inspired and create a piece of art\, music\, short film\, or literature that expresses your faith — or explores how faith and creativity intertwine. \nPrizes up for grabs:🥇 1st Prize: $1\,000🥈 2nd Prize: $500 \nAny style. Any medium. All welcome. \nEntries close: 4PM Tuesday 7 October 2025Winners announced: 17 October 2025 at the Faith and the Arts Friday event \n\n\nTerms & Conditions: \n🟠 Artworks can be in any format or genre. Physical artworks must be delivered to Trinity College Queensland\, 60 Bayliss St Auchenflower by Tuesday 7th October for judging. Please note: Judges will not return artworks. Items may be picked up after October 17th until 6 December\, thereafter Trinity College reserves the right to dispose of these items. \n🟠 Written pieces can be up to 2000 words in length and may be poetry\, film script\, fiction\, non-fiction or essay. \n🟠 Video/film/music may be up to 5 minutes in length. Please send a dropbox link or similar. \n🟠 Entries must be from people who reside in Australia or its territories only. \n🟠 Trinity faculty members and their families are excluded from entering. \n🟠 Submit your entries HERE!
URL:https://www.trinity.qld.edu.au/event/faith-and-the-arts-competition/
LOCATION:Trinity College Campus\, Level 1\, 60 Bayliss Street\, Auchenflower\, QLD\, 4066\, Australia
CATEGORIES:Other Events
ATTACH;FMTTYPE=image/png:https://www.trinity.qld.edu.au/wp-content/uploads/2025/06/FATA-Comp-Website-Cover.png
END:VEVENT
BEGIN:VEVENT
DTSTART;TZID=Australia/Brisbane:20251017T190000
DTEND;TZID=Australia/Brisbane:20251017T203000
DTSTAMP:20260421T233342
CREATED:20250515T230947Z
LAST-MODIFIED:20251113T050717Z
UID:10000008-1760727600-1760733000@www.trinity.qld.edu.au
SUMMARY:Faith And The Arts
DESCRIPTION:Faith And The Arts\nJoin us for four fun-filled nights of conversation\, imagination and creativity with multi-talented artists\, musicians and writers as they talk about how their Christian faith intersects and interacts with their artistic endeavours. Each event will run from 7:00pm to 8:30pm. \nUpcoming Events\n🟠 July 18th – Chris Poulsen and his Trio  \nFeaturing Chris and friends\, expect groove\, funk\, and fearless fun. \n🟠 August 15th – Scott Downman  \nPowerful stories of resilience from the margins. View the Change Makers Offical Trailer here. \n🟠 September 12th – Claire Zorn  \nRenowned YA author Claire Zorn explores the link between fiction and faith. \n🟠 October 17th – Chris Poulsen\n \nRenowned Bundaberg artist and jazz musician Chris Poulsen captures the charm of regional Queensland through vibrant paintings that celebrate everyday landmarks and local stories. His work invites viewers to rediscover the beauty in familiar places and faces. \nRegistering after 4pm on October 17th? Give us a call on 07 3377 9950. \n🎨 Faith And The Arts Competition NOW OPEN! Head here to submit your works of art. 
URL:https://www.trinity.qld.edu.au/event/faith-and-the-arts-2025/
LOCATION:Trinity College Campus\, Level 1\, 60 Bayliss Street\, Auchenflower\, QLD\, 4066\, Australia
CATEGORIES:Other Events
ATTACH;FMTTYPE=image/png:https://www.trinity.qld.edu.au/wp-content/uploads/2025/05/Website-Cover.png
END:VEVENT
END:VCALENDAR