BEGIN:VCALENDAR
VERSION:2.0
PRODID:-//Trinity College Queensland - ECPv6.15.20//NONSGML v1.0//EN
CALSCALE:GREGORIAN
METHOD:PUBLISH
X-WR-CALNAME:Trinity College Queensland
X-ORIGINAL-URL:https://www.trinity.qld.edu.au
X-WR-CALDESC:Events for Trinity College Queensland
REFRESH-INTERVAL;VALUE=DURATION:PT1H
X-Robots-Tag:noindex
X-PUBLISHED-TTL:PT1H
BEGIN:VTIMEZONE
TZID:Australia/Brisbane
BEGIN:STANDARD
TZOFFSETFROM:+1000
TZOFFSETTO:+1000
TZNAME:AEST
DTSTART:20250101T000000
END:STANDARD
END:VTIMEZONE
BEGIN:VEVENT
DTSTART;TZID=Australia/Brisbane:20260206T173000
DTEND;TZID=Australia/Brisbane:20260207T170000
DTSTAMP:20260422T160754
CREATED:20251127T044506Z
LAST-MODIFIED:20260205T074303Z
UID:10000061-1770399000-1770483600@www.trinity.qld.edu.au
SUMMARY:No Easy Answers: Exploring Life’s Big Questions in the Bible’s Wisdom Literature
DESCRIPTION:*Ticket sales are now closed!* \nThis conference is the first half of an intensive unit\, Interpreting and Applying Wisdom Literature.  It’s designed for students\, ministers\, and anyone seeking to engage with scripture beyond surface-level interpretations.  You will explore the complexities of wisdom in books like Proverbs\, Job\, and Ecclesiastes.    \nJoin Rachel for a deep dive into the Bible’s Wisdom Literature. Rachel brings clarity\, depth\, and scholarly insight to some of scripture’s most challenging and poetic writings. Sally will co-facilitate sessions and deliver a keynote on Proverbs and Woman Wisdom\, offering fresh insights into scripture’s deepest questions.  \nMore about our conference speakers:\nRachel Krohn holds a PhD in Old Testament and has extensive experience teaching Hebrew and foundational biblical texts. She is a full-time faculty member at Trinity College Queensland\, an affiliated college of the Australian College of Theology. \nSally Douglas is a theologian and ordained Uniting Church minister who teaches theology and biblical studies at Pilgrim Theological College\, with a particular focus on Christology and Wisdom traditions. She is widely recognised for her research on Woman Wisdom and for her book Jesus Sophia\, which explores wisdom imagery and its transformative role in faith. \nProgram\n\n\n\n\nFriday 6th February  \n\n\n\n5.15 – 5.45pm \nRegistration Open \n \n\n\n6pm \nDinner \n \n\n\n \nSession 1 | Big Questions in the Wisdom Literature \n                                                                                                      Rachel & Sally \n\n\n8pm \nClose \n \n\n\n \n \n \n\n\n\nSaturday 7th February  \n\n\n\n8.30am \n Coffee and tea available \n \n\n\n9 – 10am\nSession 2 | Job\, Justice\, and Wrestling with God \nRachel \n\n\n10-10.25am \nMorning Tea \n \n\n\n10.25-11.25am \nSession 3 | Proverbs and Woman Wisdom \nSally \n\n\n \nShort break \n \n\n\n11.50 – 12.50pm \nSession 4 | Qohelet : An invitation to Joy \nRachel \n\n\n12.50 – 1.35pm \nLunch \n \n\n\n1.35-3pm \nSession 5 | Workshops \n \n\n\n \n1.  Job: Why do bad things happen to good people\, and what should we do about it? \n \n\n\n \n2.  Proverbs: Why is God’s wisdom personified as a woman\, and are we allowed to think about God that way? \n \n\n\n \n3.  Ecclesiastes: Is there meaning in life\, or is that just what we’re told? \n \n\n\n3-3.15pm \nAfternoon Tea \n \n\n\n3.15-4.45pm \nFinal Session + Q&A \nRachel & Sally \n\n\n\n\n\n\n\n\n  \nClick here for more details and the price list!
URL:https://www.trinity.qld.edu.au/event/no-easy-answers-exploring-lifes-big-questions-in-the-bibles-wisdom-literature/
LOCATION:Trinity College Campus\, Level 1\, 60 Bayliss Street\, Auchenflower\, QLD\, 4066\, Australia
ATTACH;FMTTYPE=image/png:https://www.trinity.qld.edu.au/wp-content/uploads/2025/11/Wisdom-Literature-Website-Images-1.png
ORGANIZER;CN="Trinity College Queensland":MAILTO:ask@trinity.qld.edu.au
END:VEVENT
BEGIN:VEVENT
DTSTART;TZID=Australia/Brisbane:20260218T093000
DTEND;TZID=Australia/Brisbane:20260218T140000
DTSTAMP:20260422T160754
CREATED:20260120T041454Z
LAST-MODIFIED:20260122T034346Z
UID:10000072-1771407000-1771423200@www.trinity.qld.edu.au
SUMMARY:Code of Ethics & Safe Church Online Course
DESCRIPTION:Join Trinity College Queensland and PSU for the Code of Ethics & Safe Church online training day. \nThis course is mandatory for all ministry agents and must be completed annually. The day includes: \n\nCode of Ethics Refresher (9:30am)\nSafe Church Ministry Agents Mandatory Reporting – Unit 7 (12:30pm)\n\nDelivered online only\, this session features new 2026 updated content to ensure ministry agents are equipped with current ethical standards and safe church practices. \nDate: Wednesday 18 FebruaryTime: 9:30am – 2:00pmFormat: Online onlyHosted by: Trinity College Queensland & PSU \nFor enquiries\, please contact 07 3377 9950 or ask@trinity.qld.edu.au
URL:https://www.trinity.qld.edu.au/event/code-of-ethics-safe-church-online-course/
LOCATION:QLD
ATTACH;FMTTYPE=image/png:https://www.trinity.qld.edu.au/wp-content/uploads/2026/01/Short-Course-ticket.png
END:VEVENT
BEGIN:VEVENT
DTSTART;TZID=Australia/Brisbane:20260225T110000
DTEND;TZID=Australia/Brisbane:20260225T110000
DTSTAMP:20260422T160754
CREATED:20251210T045623Z
LAST-MODIFIED:20260113T043526Z
UID:10000066-1772017200-1772017200@www.trinity.qld.edu.au
SUMMARY:Short Course: Congregational Renewal (25 Feb & 4 Mar) – Rev Paul Clark
DESCRIPTION:The vision of the Synod is renewal. But what does congregational renewal look like in practice\, and how do we open ourselves to the work of God in bringing it about? Paul Clark has led renewal in his own congregational ministry and\, alongside a team of experienced practitioners\, will guide you through a course designed to inspire\, challenge\, and equip you on the elements and pathway to congregational renewal. Bring your whole team! \nThis course will run on 25 February and 4 March\, spanning two weeks\, with learning that deepens and builds from Week 1 into Week 2 for a richer experience. \nOne registration covers both sessions—just come along for the full course. \nThis short course is free to attend\, and you can join in person or online. \nSign up now to secure your place!
URL:https://www.trinity.qld.edu.au/event/short-course-2026-congregational-renewal-25-feb-rev-paul-clark/
LOCATION:Trinity College Campus\, Level 1\, 60 Bayliss Street\, Auchenflower\, QLD\, 4066\, Australia
ATTACH;FMTTYPE=image/png:https://www.trinity.qld.edu.au/wp-content/uploads/2025/12/Short-Course-ticket-1.png
ORGANIZER;CN="Trinity College Queensland":MAILTO:ask@trinity.qld.edu.au
END:VEVENT
BEGIN:VEVENT
DTSTART;TZID=Australia/Brisbane:20260311T110000
DTEND;TZID=Australia/Brisbane:20260311T130000
DTSTAMP:20260422T160754
CREATED:20251210T234723Z
LAST-MODIFIED:20260113T050229Z
UID:10000067-1773226800-1773234000@www.trinity.qld.edu.au
SUMMARY:Short Course: Recruiting & Releasing Volunteers – Rev Barry Allen
DESCRIPTION:Rev Barry Allen said that recruiting and releasing volunteers was one of the most powerful aspects of his ministry practice.  \nCome and learn how to identify\, recruit\, train and release volunteers in their ministry gifts. \nThis short course is free to attend\, and you can join in person or online.  \nSign up now to secure your place.
URL:https://www.trinity.qld.edu.au/event/short-course-2026-recruiting-releasing-volunteers-rev-barry-allen/
LOCATION:Trinity College Campus\, Level 1\, 60 Bayliss Street\, Auchenflower\, QLD\, 4066\, Australia
ATTACH;FMTTYPE=image/png:https://www.trinity.qld.edu.au/wp-content/uploads/2025/12/Short-Course-ticket-10.png
ORGANIZER;CN="Trinity College Queensland":MAILTO:ask@trinity.qld.edu.au
END:VEVENT
BEGIN:VEVENT
DTSTART;TZID=Australia/Brisbane:20260318T110000
DTEND;TZID=Australia/Brisbane:20260318T130000
DTSTAMP:20260422T160754
CREATED:20251231T031650Z
LAST-MODIFIED:20260113T045952Z
UID:10000068-1773831600-1773838800@www.trinity.qld.edu.au
SUMMARY:Short Course: Ministry with Seniors – Rev Gerda Olafsen
DESCRIPTION:We train people for ministry with youth and children but just assume ministry to seniors comes natural. Rev Gerda has done a thesis on ministry to Seniors and has some significant insights to share. \nThis short course is free to attend\, and you can join in person or online. \nSign up now to secure your place.
URL:https://www.trinity.qld.edu.au/event/short-course-ministry-with-seniors-rev-gerda-olafsen/
LOCATION:Trinity College Campus\, Level 1\, 60 Bayliss Street\, Auchenflower\, QLD\, 4066\, Australia
CATEGORIES:Short Courses
ATTACH;FMTTYPE=image/png:https://www.trinity.qld.edu.au/wp-content/uploads/2025/12/Short-Course-ticket-1-1.png
ORGANIZER;CN="Trinity College Queensland":MAILTO:ask@trinity.qld.edu.au
END:VEVENT
BEGIN:VEVENT
DTSTART;TZID=Australia/Brisbane:20260320T163000
DTEND;TZID=Australia/Brisbane:20260320T200000
DTSTAMP:20260422T160754
CREATED:20251208T043730Z
LAST-MODIFIED:20260114T041611Z
UID:10000063-1774024200-1774036800@www.trinity.qld.edu.au
SUMMARY:2026 Graduation Ceremony
DESCRIPTION:You’re Invited to the 2026 Trinity College Queensland Graduation Ceremony\nTrinity College Queensland warmly invites you to join us for the 2026 Graduation Ceremony\, where we will celebrate the achievements of our students and formally present the 2025 awards of the Australian College of Theology. This special occasion marks an important milestone for our graduands as they step into new seasons of ministry\, study\, and service. \nThe ceremony will take place on Friday 20 March 2026\, with guests welcome from 4:30pm for a 5:00pm start\, at Trinity College Queensland\, Level 1\, 60 Bayliss Street\, Auchenflower. \nParking will be available both on-site and in surrounding side streets. We encourage you and your guests to allow extra time for parking so you can be seated comfortably before the ceremony begins. \nWe look forward to celebrating this significant moment with our graduands\, their families\, friends\, and the wider Trinity community. \nRSVP by Friday 13 March 2026. \nPlease check you spam folder if you did not receive an email of the tickets after registering.
URL:https://www.trinity.qld.edu.au/event/2026-graduation-ceremony/
LOCATION:Trinity College Campus\, Level 1\, 60 Bayliss Street\, Auchenflower\, QLD\, 4066\, Australia
ATTACH;FMTTYPE=image/png:https://www.trinity.qld.edu.au/wp-content/uploads/2025/12/grad-1.png
ORGANIZER;CN="Trinity College Queensland":MAILTO:ask@trinity.qld.edu.au
END:VEVENT
BEGIN:VEVENT
DTSTART;TZID=Australia/Brisbane:20260325T110000
DTEND;TZID=Australia/Brisbane:20260325T130000
DTSTAMP:20260422T160754
CREATED:20251231T035041Z
LAST-MODIFIED:20260317T045833Z
UID:10000070-1774436400-1774443600@www.trinity.qld.edu.au
SUMMARY:Short Course: Frontier Services - Rob Floyd
DESCRIPTION:Ministry to outback Australia. It has a romance to it\, but what is the ministry of a ‘Bush Chaplain’ really like? What does it mean for us to show the love of Christ to people in the most remote regions of our vast country? Come and hear from Rob Floyd\, national director of Frontier Services. \nThis short course is free to attend\, and you can join in person or online. \nSign up now to secure your place.
URL:https://www.trinity.qld.edu.au/event/short-course-frontier-services/
LOCATION:Trinity College Campus\, Level 1\, 60 Bayliss Street\, Auchenflower\, QLD\, 4066\, Australia
CATEGORIES:Short Courses
ATTACH;FMTTYPE=image/png:https://www.trinity.qld.edu.au/wp-content/uploads/2025/12/Short-Course-ticket-1-2.png
ORGANIZER;CN="Trinity College Queensland":MAILTO:ask@trinity.qld.edu.au
END:VEVENT
BEGIN:VEVENT
DTSTART;TZID=Australia/Brisbane:20260326T090000
DTEND;TZID=Australia/Brisbane:20260326T170000
DTSTAMP:20260422T160754
CREATED:20260216T075522Z
LAST-MODIFIED:20260226T040005Z
UID:10000073-1774515600-1774544400@www.trinity.qld.edu.au
SUMMARY:Marriage Celebrant Training - 26 March
DESCRIPTION:Become a certified facilitator of Prepare/Enrich\, the world’s leading pre-marriage and relationship enrichment course. \n$150 – Includes all training materials \nDate: Thursday 26 March \nTime: 9am – 5pm \nTo learn more about the course: https://www.prepare-enrich.com 
URL:https://www.trinity.qld.edu.au/event/marriage-celebrant-training-26-march/
LOCATION:New Life Church Robina\, 4 Greenwich Crt Robina\, Gold Coast\, QLD\, 4226\, Australia
ATTACH;FMTTYPE=image/png:https://www.trinity.qld.edu.au/wp-content/uploads/2026/02/Short-Course-ticket.png
ORGANIZER;CN="Trinity College Queensland":MAILTO:ask@trinity.qld.edu.au
END:VEVENT
BEGIN:VEVENT
DTSTART;TZID=Australia/Brisbane:20260327T090000
DTEND;TZID=Australia/Brisbane:20260327T160000
DTSTAMP:20260422T160754
CREATED:20260217T042801Z
LAST-MODIFIED:20260323T010825Z
UID:10000074-1774602000-1774627200@www.trinity.qld.edu.au
SUMMARY:Marriage Celebrant Training - 27 March
DESCRIPTION:Celebrant Training for Ministers/Pastors in the Uniting Church of Australia. \nDate: Friday 27 March \nTime: 9am – 4pm \nFree for Uniting Church Members \nPlease Note: You can only become a Registered Celebrant in the Uniting Church with Permission of your Presbytery. Please check before enrolling.
URL:https://www.trinity.qld.edu.au/event/marriage-celebrant-training-27-march/
LOCATION:New Life Church Robina\, 4 Greenwich Crt Robina\, Gold Coast\, QLD\, 4226\, Australia
ATTACH;FMTTYPE=image/png:https://www.trinity.qld.edu.au/wp-content/uploads/2026/02/Short-Course-ticket-1.png
END:VEVENT
BEGIN:VEVENT
DTSTART;TZID=Australia/Brisbane:20260330T140000
DTEND;TZID=Australia/Brisbane:20260330T193000
DTSTAMP:20260422T160754
CREATED:20260220T042042Z
LAST-MODIFIED:20260310T045732Z
UID:10000075-1774879200-1774899000@www.trinity.qld.edu.au
SUMMARY:Open Evening - Meet the Principal (30 March)
DESCRIPTION:Meet the Principal at Trinity College Queensland’s Open Day from 2:00pm–7:30pm on campus. Hear about our vision\, values\, and approach to learning\, and ask your questions about student life\, wellbeing\, academics\, and pathways. \nAvailable both onsite and online. \nRegister here to book a time!
URL:https://www.trinity.qld.edu.au/event/meet-the-principal-30-march/
LOCATION:Trinity College Campus\, Level 1\, 60 Bayliss Street\, Auchenflower\, QLD\, 4066\, Australia
CATEGORIES:Open Evenings
ATTACH;FMTTYPE=image/png:https://www.trinity.qld.edu.au/wp-content/uploads/2026/02/Short-Course-ticket-2.png
ORGANIZER;CN="Trinity College Queensland":MAILTO:ask@trinity.qld.edu.au
END:VEVENT
BEGIN:VEVENT
DTSTART;TZID=Australia/Brisbane:20260401T110000
DTEND;TZID=Australia/Brisbane:20260401T130000
DTSTAMP:20260422T160754
CREATED:20251231T034210Z
LAST-MODIFIED:20260317T045433Z
UID:10000069-1775041200-1775048400@www.trinity.qld.edu.au
SUMMARY:Short Course: Preaching outside the Church – Paul Clark
DESCRIPTION:Most of us get into Ministry because we want to preach the word to the world\, but end up preaching to the choir. Come and hear from the ‘at the top’ guy who has made it his mission to proclaim the word outside of the church. \nThis short course is free to attend\, and you can join in person or online. \nSign up now to secure your place.
URL:https://www.trinity.qld.edu.au/event/short-course-preaching-outside-the-church-paul-clark/
LOCATION:Trinity College Campus\, Level 1\, 60 Bayliss Street\, Auchenflower\, QLD\, 4066\, Australia
CATEGORIES:Short Courses
ATTACH;FMTTYPE=image/png:https://www.trinity.qld.edu.au/wp-content/uploads/2025/12/Short-Course-ticket-11.png
ORGANIZER;CN="Trinity College Queensland":MAILTO:ask@trinity.qld.edu.au
END:VEVENT
BEGIN:VEVENT
DTSTART;TZID=Australia/Brisbane:20260422T110000
DTEND;TZID=Australia/Brisbane:20260422T130000
DTSTAMP:20260422T160754
CREATED:20260319T044345Z
LAST-MODIFIED:20260319T051132Z
UID:10000078-1776855600-1776862800@www.trinity.qld.edu.au
SUMMARY:Short Course: Volunteer & Staff Management – Jennifer Devantier
DESCRIPTION:Volunteers are the backbone of the church\, the arms\, legs and almost everything else. How do you work well with volunteers and help empower them? If you have staff\, what are your obligations? Come and hear from Synod HR team member\, Jennifer Devantier. \nThis short course is free to attend\, and you can join in person or online. \nSign up now to secure your place.
URL:https://www.trinity.qld.edu.au/event/short-course-volunteer-staff-management-jennifer-devantier/
LOCATION:Trinity College Campus\, Level 1\, 60 Bayliss Street\, Auchenflower\, QLD\, 4066\, Australia
CATEGORIES:Short Courses
ATTACH;FMTTYPE=image/png:https://www.trinity.qld.edu.au/wp-content/uploads/2026/03/Short-Course-ticket-6.png
ORGANIZER;CN="Trinity College Queensland":MAILTO:ask@trinity.qld.edu.au
END:VEVENT
BEGIN:VEVENT
DTSTART;TZID=Australia/Brisbane:20260429T110000
DTEND;TZID=Australia/Brisbane:20260429T130000
DTSTAMP:20260422T160754
CREATED:20260319T044048Z
LAST-MODIFIED:20260319T044048Z
UID:10000077-1777460400-1777467600@www.trinity.qld.edu.au
SUMMARY:Short Course: Welfare Ministry in Churches – Paul Clark
DESCRIPTION:From the start the church has had at its heart ministry to those doing it tough. Sometimes this service can become more about us doing good and meeting our own needs than the needs of the community. How can we do Welfare Ministry well? \nThis short course is free to attend\, and you can join in person or online. \nSign up now to secure your place.
URL:https://www.trinity.qld.edu.au/event/short-course-welfare-ministry-in-churches-paul-clark/
LOCATION:Trinity College Campus\, Level 1\, 60 Bayliss Street\, Auchenflower\, QLD\, 4066\, Australia
CATEGORIES:Short Courses
ATTACH;FMTTYPE=image/png:https://www.trinity.qld.edu.au/wp-content/uploads/2026/03/Short-Course-ticket.png
ORGANIZER;CN="Trinity College Queensland":MAILTO:ask@trinity.qld.edu.au
END:VEVENT
BEGIN:VEVENT
DTSTART;TZID=Australia/Brisbane:20260506T110000
DTEND;TZID=Australia/Brisbane:20260506T130000
DTSTAMP:20260422T160754
CREATED:20260319T044833Z
LAST-MODIFIED:20260319T050638Z
UID:10000079-1778065200-1778072400@www.trinity.qld.edu.au
SUMMARY:Short Course: Youth Ministry – Hannah Legge
DESCRIPTION:To bring renewal we need to engage the younger generations with the good news of God’s love. Join Hannah Legge as she helps us to understand how to do youth Ministry in today’s world. \nThis short course is free to attend\, and you can join in person or online. \nSign up now to secure your place.
URL:https://www.trinity.qld.edu.au/event/short-course-youth-ministry-hannah-legge/
LOCATION:Trinity College Campus\, Level 1\, 60 Bayliss Street\, Auchenflower\, QLD\, 4066\, Australia
CATEGORIES:Short Courses
ATTACH;FMTTYPE=image/png:https://www.trinity.qld.edu.au/wp-content/uploads/2026/03/Short-Course-ticket-1.png
ORGANIZER;CN="Trinity College Queensland":MAILTO:ask@trinity.qld.edu.au
END:VEVENT
BEGIN:VEVENT
DTSTART;TZID=Australia/Brisbane:20260513T110000
DTEND;TZID=Australia/Brisbane:20260513T140000
DTSTAMP:20260422T160754
CREATED:20260319T045052Z
LAST-MODIFIED:20260319T073552Z
UID:10000080-1778670000-1778680800@www.trinity.qld.edu.au
SUMMARY:Short Course: Governance 101 – Simon Moore
DESCRIPTION:The Uniting Church’s existence in law is a bit complicated. When you are in a Ministry role understanding how we exist\, and how that affects our polity becomes important. Let Synod’s Governance specialist help you navigate this space. \nThis short course is free to attend\, and you can join in person or online. \nSign up now to secure your place.
URL:https://www.trinity.qld.edu.au/event/short-course-governance-101-simon-moore/
LOCATION:Trinity College Campus\, Level 1\, 60 Bayliss Street\, Auchenflower\, QLD\, 4066\, Australia
CATEGORIES:Short Courses
ATTACH;FMTTYPE=image/png:https://www.trinity.qld.edu.au/wp-content/uploads/2026/03/Short-Course-ticket-2.png
ORGANIZER;CN="Trinity College Queensland":MAILTO:ask@trinity.qld.edu.au
END:VEVENT
BEGIN:VEVENT
DTSTART;TZID=Australia/Brisbane:20260520T110000
DTEND;TZID=Australia/Brisbane:20260520T130000
DTSTAMP:20260422T160754
CREATED:20260319T045445Z
LAST-MODIFIED:20260319T045445Z
UID:10000081-1779274800-1779282000@www.trinity.qld.edu.au
SUMMARY:Short Course: Uniting Early Learning – Belinda Briggs
DESCRIPTION:The Uniting Church has well over a dozen early childhood centres ministering and connecting to our community. How do we engage and interact with them as congregations? Come and let UEL’s director share the joy of early childhood ministry and how we can support one another. \nThis short course is free to attend\, and you can join in person or online. \nSign up now to secure your place.
URL:https://www.trinity.qld.edu.au/event/short-course-uniting-early-learning-belinda-briggs/
LOCATION:Trinity College Campus\, Level 1\, 60 Bayliss Street\, Auchenflower\, QLD\, 4066\, Australia
CATEGORIES:Short Courses
ATTACH;FMTTYPE=image/png:https://www.trinity.qld.edu.au/wp-content/uploads/2026/03/Short-Course-ticket-3.png
ORGANIZER;CN="Trinity College Queensland":MAILTO:ask@trinity.qld.edu.au
END:VEVENT
BEGIN:VEVENT
DTSTART;TZID=Australia/Brisbane:20260525T180000
DTEND;TZID=Australia/Brisbane:20260525T203000
DTSTAMP:20260422T160754
CREATED:20260220T043113Z
LAST-MODIFIED:20260416T095337Z
UID:10000076-1779732000-1779741000@www.trinity.qld.edu.au
SUMMARY:Open Evening (25 May)
DESCRIPTION:Where are you on your faith journey?\nWhether you’re certain you’re ready for study or not\, you’re welcome to our Open Evening! We will help you find your way with a fun evening full of sample lectures\, meeting the community and answering all the burning questions. You’ll discover what Trinity has to offer\, what your learning pathways could be\, and how study could work for you. \nOpen Evening Program\n6 pm onwards: Arrival\, LIGHT REFRESHMENTS and chat \n6.15 pm: Zoom link starts \n6.30pm: Open Evening program \n🟠 Welcome\, and an introduction to Trinity Principal Scott Downman \n🟠 Hear from faculty\, staff and students \n🟠 Mini-lectures (7 minutes each) \n🟠 Q&A – Ask all your questions \n8.15 pm: Refreshments\, questions and chat \nAttend in person or online (zoom details will be sent to you). \nTrinity Open Evening is on Monday 25 May at Trinity College\, Level 1\, 60 Bayliss St\, Auchenflower. It’s easy to get to\, and parking is underneath the building. \n 
URL:https://www.trinity.qld.edu.au/event/open-evening-25-may/
LOCATION:Trinity College Campus\, Level 1\, 60 Bayliss Street\, Auchenflower\, QLD\, 4066\, Australia
CATEGORIES:Open Evenings
ATTACH;FMTTYPE=image/jpeg:https://www.trinity.qld.edu.au/wp-content/uploads/2026/02/TTCQ-006_OpenDayMay_WebPopUp_1920x1080_DM_v01.jpg
ORGANIZER;CN="Trinity College Queensland":MAILTO:ask@trinity.qld.edu.au
END:VEVENT
BEGIN:VEVENT
DTSTART;TZID=Australia/Brisbane:20260527T110000
DTEND;TZID=Australia/Brisbane:20260527T130000
DTSTAMP:20260422T160754
CREATED:20260319T045844Z
LAST-MODIFIED:20260319T045844Z
UID:10000082-1779879600-1779886800@www.trinity.qld.edu.au
SUMMARY:Short Course: Ministry in the 21st Century – P Clark
DESCRIPTION:Not that long ago there was an assumption that you should just go to church. That is still an assumption in many cultures. But in 21st century Australia\, it is assumed you should not go to church. How do you do Ministry in a secular\, suspicious\, even antagonistic world? Come and learn from a practitioner who learnt by doing. \nThis short course is free to attend\, and you can join in person or online. \nSign up now to secure your place.
URL:https://www.trinity.qld.edu.au/event/short-course-ministry-in-the-21st-century-p-clark/
LOCATION:Trinity College Campus\, Level 1\, 60 Bayliss Street\, Auchenflower\, QLD\, 4066\, Australia
CATEGORIES:Short Courses
ATTACH;FMTTYPE=image/png:https://www.trinity.qld.edu.au/wp-content/uploads/2026/03/Short-Course-ticket-4.png
ORGANIZER;CN="Trinity College Queensland":MAILTO:ask@trinity.qld.edu.au
END:VEVENT
END:VCALENDAR