BEGIN:VCALENDAR
VERSION:2.0
PRODID:-//Trinity College Queensland - ECPv6.15.20//NONSGML v1.0//EN
CALSCALE:GREGORIAN
METHOD:PUBLISH
X-WR-CALNAME:Trinity College Queensland
X-ORIGINAL-URL:https://www.trinity.qld.edu.au
X-WR-CALDESC:Events for Trinity College Queensland
REFRESH-INTERVAL;VALUE=DURATION:PT1H
X-Robots-Tag:noindex
X-PUBLISHED-TTL:PT1H
BEGIN:VTIMEZONE
TZID:Australia/Brisbane
BEGIN:STANDARD
TZOFFSETFROM:+1000
TZOFFSETTO:+1000
TZNAME:AEST
DTSTART:20210101T000000
END:STANDARD
END:VTIMEZONE
BEGIN:VEVENT
DTSTART;TZID=Australia/Brisbane:20220314T130000
DTEND;TZID=Australia/Brisbane:20220314T163000
DTSTAMP:20260422T145104
CREATED:20211201T021149Z
LAST-MODIFIED:20220312T104802Z
UID:10000022-1647262800-1647275400@www.trinity.qld.edu.au
SUMMARY:UCA Governance and Regulatory Life
DESCRIPTION:A complementary course to Uniting Church in Australia Identity\, Purpose & Future\, which looks at who\, why and where we are as the Uniting Church\, UCA Governance and Regulatory Life examines how the church functions as a regulated organisation. \nParticipants will come away with a clear overview of what the Basis of Union refers to as\, the “government in the church” and the decision-making processes and functions of this interconciliar community of being. \nWho should do it? Ministers\, candidates\, and anyone in a pastor role will hugely benefit from it. Anyone on UCA committees\, boards and councils should do it\, and people right across the life of the church will find it useful to get the full picture of how the Uniting Church relates to and operates within the community. \nFacilitator: Nigel Rogers \nCOST \n\n$40 (live-stream) an email will be sent with details for live-streaming\n\nCandidates for Ministry \n\nFree (live-stream) an email will be sent with details for live-streaming
URL:https://www.trinity.qld.edu.au/event/uca-governance-and-regulatory-life-2/
LOCATION:Trinity College Campus\, Level 1\, 60 Bayliss Street\, Auchenflower\, QLD\, 4066\, Australia
CATEGORIES:Short Courses
ATTACH;FMTTYPE=image/jpeg:https://www.trinity.qld.edu.au/wp-content/uploads/2021/12/8.jpg
ORGANIZER;CN="Rev Nigel Rogers":MAILTO:Nigel.Rogers@trinity.qld.edu.au
END:VEVENT
END:VCALENDAR