BEGIN:VCALENDAR
VERSION:2.0
PRODID:-//Trinity College Queensland - ECPv6.15.20//NONSGML v1.0//EN
CALSCALE:GREGORIAN
METHOD:PUBLISH
X-WR-CALNAME:Trinity College Queensland
X-ORIGINAL-URL:https://www.trinity.qld.edu.au
X-WR-CALDESC:Events for Trinity College Queensland
REFRESH-INTERVAL;VALUE=DURATION:PT1H
X-Robots-Tag:noindex
X-PUBLISHED-TTL:PT1H
BEGIN:VTIMEZONE
TZID:Australia/Brisbane
BEGIN:STANDARD
TZOFFSETFROM:+1000
TZOFFSETTO:+1000
TZNAME:AEST
DTSTART:20220101T000000
END:STANDARD
END:VTIMEZONE
BEGIN:VEVENT
DTSTART;TZID=Australia/Brisbane:20230310T170000
DTEND;TZID=Australia/Brisbane:20230310T190000
DTSTAMP:20260421T230446
CREATED:20221207T074943Z
LAST-MODIFIED:20230127T060209Z
UID:10000018-1678467600-1678474800@www.trinity.qld.edu.au
SUMMARY:Graduation - March 2023
DESCRIPTION:Join the Trinity College Queensland community for our Graduation on Friday 10 March\, celebrating the achievements of our students. This is an in person event at the college\, arrival at 4.30pm for a 5pm start with a light supper following. Your RSVP is required for catering purposes.
URL:https://www.trinity.qld.edu.au/event/graduation-march-2023/
LOCATION:Trinity College Campus\, Level 1\, 60 Bayliss Street\, Auchenflower\, QLD\, 4066\, Australia
CATEGORIES:Other Events
ATTACH;FMTTYPE=image/jpeg:https://www.trinity.qld.edu.au/wp-content/uploads/2022/12/grad.jpg
ORGANIZER;CN="Trinity College Queensland":MAILTO:ask@trinity.qld.edu.au
END:VEVENT
BEGIN:VEVENT
DTSTART;TZID=Australia/Brisbane:20230313T090000
DTEND;TZID=Australia/Brisbane:20230313T123000
DTSTAMP:20260421T230446
CREATED:20230120T033526Z
LAST-MODIFIED:20230209T034032Z
UID:10000019-1678698000-1678710600@www.trinity.qld.edu.au
SUMMARY:Code of Ethics Foundations
DESCRIPTION:This short course is designed as an introduction to the Code of Ethics and Ministry Practice. It will enable participants to identify the practices inherent in the Code of Ethics and to explore the 5 key concepts in the Code of Ethics. There will also be opportunity for participants to discuss the purpose and focus of professional supervision\, being a supervisee\, and expectations of a professional supervisor. \nFacilitated by: Sue Crittall \nCOST: \n\n$40 (onsite)\n$40 (live-stream) an email will be sent with details for live-streaming\n$100 (Church Groups onsite)\n$100 (Church Groups online) an email will be sent with details for live-streaming\n\nCandidates for Ministry \n\nFree (onsite)\nFree (live-stream) an email will be sent with details for live-streaming
URL:https://www.trinity.qld.edu.au/event/code-of-ethics-foundations-4/
LOCATION:Trinity College Campus\, Level 1\, 60 Bayliss Street\, Auchenflower\, QLD\, 4066\, Australia
CATEGORIES:Short Courses
ATTACH;FMTTYPE=image/jpeg:https://www.trinity.qld.edu.au/wp-content/uploads/2022/03/Code-of-Ethics.jpg
END:VEVENT
BEGIN:VEVENT
DTSTART;TZID=Australia/Brisbane:20230313T130000
DTEND;TZID=Australia/Brisbane:20230313T160000
DTSTAMP:20260421T230446
CREATED:20230120T033701Z
LAST-MODIFIED:20230124T044911Z
UID:10000039-1678712400-1678723200@www.trinity.qld.edu.au
SUMMARY:Refresher Course: Code of Ethics Foundations
DESCRIPTION:This short course is designed as a refresher for those who have previously completed the course on the Code of Ethics and Ministry Practice.\nFacilitated by Sue Crittall. \nCOST: \n\n$40 (onsite)\n$40 (live-stream) an email will be sent with details for live-streaming\n$100 (Church Groups onsite)\n$100 (Church Groups online) an email will be sent with details for live-streaming\n\nCandidates for Ministry \n\nFree (onsite)\nFree (live-stream) an email will be sent with details for live-streaming
URL:https://www.trinity.qld.edu.au/event/refresher-course-code-of-ethics-foundations-2/
LOCATION:Trinity College Campus\, Level 1\, 60 Bayliss Street\, Auchenflower\, QLD\, 4066\, Australia
CATEGORIES:Short Courses
ATTACH;FMTTYPE=image/jpeg:https://www.trinity.qld.edu.au/wp-content/uploads/2022/03/Code-of-Ethics.jpg
ORGANIZER;CN="Rev Nigel Rogers":MAILTO:Nigel.Rogers@trinity.qld.edu.au
END:VEVENT
END:VCALENDAR