BEGIN:VCALENDAR
VERSION:2.0
PRODID:-//Trinity College Queensland - ECPv6.15.20//NONSGML v1.0//EN
CALSCALE:GREGORIAN
METHOD:PUBLISH
X-ORIGINAL-URL:https://www.trinity.qld.edu.au
X-WR-CALDESC:Events for Trinity College Queensland
REFRESH-INTERVAL;VALUE=DURATION:PT1H
X-Robots-Tag:noindex
X-PUBLISHED-TTL:PT1H
BEGIN:VTIMEZONE
TZID:Australia/Brisbane
BEGIN:STANDARD
TZOFFSETFROM:+1000
TZOFFSETTO:+1000
TZNAME:AEST
DTSTART:20230101T000000
END:STANDARD
END:VTIMEZONE
BEGIN:VEVENT
DTSTART;TZID=Australia/Brisbane:20240429T190000
DTEND;TZID=Australia/Brisbane:20240429T203000
DTSTAMP:20260425T070322
CREATED:20240328T040613Z
LAST-MODIFIED:20240416T071215Z
UID:10000044-1714417200-1714422600@www.trinity.qld.edu.au
SUMMARY:Research Seminar - April 29
DESCRIPTION:We are excited to be hosting another night from the Research Seminar Series here at Trinity College QLD for those looking for an in-person (or online) academic seminar. The Research Seminars focus on the research of our faculty and postgraduate students and are targeted primarily to ministers and ministry agents with PhDs or DMins (but we also welcome anyone who is interested). \nOur next session is April 29th\, 2024 from 7pm – 8.30pm on location at Trinity College with the option for you to join online.\nRachel Krohn\, a Trinity Lecturer\, will be presenting on this night with the presentation title\, “Fulfilling Th(es)e Prophets: The Canonical Significance of Moses\, Elijah\, and Jesus in Luke’s Transfiguration Account”.  Along with this presentation\, you will also hear from James Weeks who will provide some further insight on the postgrad work that we have available here at Trinity College QLD. \nFor more information about this event\, or to RSVP please email ask@trinity.qld.edu.au
URL:https://www.trinity.qld.edu.au/event/research-seminar-april-29/
LOCATION:Trinity College Campus\, Level 1\, 60 Bayliss Street\, Auchenflower\, QLD\, 4066\, Australia
CATEGORIES:Other Events
ATTACH;FMTTYPE=image/png:https://www.trinity.qld.edu.au/wp-content/uploads/2023/12/Research-Seminar-Series_-1260px-x-840px.png
ORGANIZER;CN="Trinity College Queensland":MAILTO:ask@trinity.qld.edu.au
END:VEVENT
END:VCALENDAR