BEGIN:VCALENDAR
VERSION:2.0
PRODID:-//Trinity College Queensland - ECPv6.15.20//NONSGML v1.0//EN
CALSCALE:GREGORIAN
METHOD:PUBLISH
X-WR-CALNAME:Trinity College Queensland
X-ORIGINAL-URL:https://www.trinity.qld.edu.au
X-WR-CALDESC:Events for Trinity College Queensland
REFRESH-INTERVAL;VALUE=DURATION:PT1H
X-Robots-Tag:noindex
X-PUBLISHED-TTL:PT1H
BEGIN:VTIMEZONE
TZID:Australia/Brisbane
BEGIN:STANDARD
TZOFFSETFROM:+1000
TZOFFSETTO:+1000
TZNAME:AEST
DTSTART:20230101T000000
END:STANDARD
END:VTIMEZONE
BEGIN:VEVENT
DTSTART;TZID=Australia/Brisbane:20240520T183000
DTEND;TZID=Australia/Brisbane:20240520T203000
DTSTAMP:20260425T081806
CREATED:20230320T082021Z
LAST-MODIFIED:20240322T033430Z
UID:10000040-1716229800-1716237000@www.trinity.qld.edu.au
SUMMARY:Open Evening May 2024
DESCRIPTION:Thinking about further study?\nGet a taste of Trinity life and learning\, meet our community and ask all your questions at our Open Evening. You’ll discover what Trinity has to offer\, what your learning pathways could be\, and how study could work for you. \nRegister Here \nOpen Evening Program\n6.30 pm onwards: Arrival\, LIGHT REFRESHMENTS and chat \n6.45 pm: Zoom link starts \n7-8.30 pm: Open Evening program \n🟠 Welcome\, and an introduction to Trinity Principal Paul Jones \n🟠 Hear from faculty\, staff and students \n🟠 Mini-lectures (7 minutes each) \n🟠 Q&A – Ask all your questions \n8.45 pm: Refreshments\, questions and chat \nAttend in person or online (zoom details will be sent to you) Click here to go the registration page. \nTrinity Open Evening is from 7-8:30pm on Monday 20 May at Trinity College\, Level 1\, 60 Bayliss St\, Auchenflower. It’s easy to get to\, and parking is underneath the building. \nRegistering after 4pm on Monday 20? Give us a call on 07 3377 9950
URL:https://www.trinity.qld.edu.au/event/open-evening-6/
LOCATION:Trinity College Campus\, Level 1\, 60 Bayliss Street\, Auchenflower\, QLD\, 4066\, Australia
CATEGORIES:Open Evenings
ATTACH;FMTTYPE=image/png:https://www.trinity.qld.edu.au/wp-content/uploads/2023/03/Trinity-Open-Evening-2024-EventbriteBanner-KM_v1.png
END:VEVENT
END:VCALENDAR