BEGIN:VCALENDAR
VERSION:2.0
PRODID:-//Trinity College Queensland - ECPv6.15.20//NONSGML v1.0//EN
CALSCALE:GREGORIAN
METHOD:PUBLISH
X-WR-CALNAME:Trinity College Queensland
X-ORIGINAL-URL:https://www.trinity.qld.edu.au
X-WR-CALDESC:Events for Trinity College Queensland
REFRESH-INTERVAL;VALUE=DURATION:PT1H
X-Robots-Tag:noindex
X-PUBLISHED-TTL:PT1H
BEGIN:VTIMEZONE
TZID:Australia/Brisbane
BEGIN:STANDARD
TZOFFSETFROM:+1000
TZOFFSETTO:+1000
TZNAME:AEST
DTSTART:20230101T000000
END:STANDARD
END:VTIMEZONE
BEGIN:VEVENT
DTSTART;TZID=Australia/Brisbane:20240910T090000
DTEND;TZID=Australia/Brisbane:20240911T203000
DTSTAMP:20260425T105521
CREATED:20240328T041759Z
LAST-MODIFIED:20240826T004303Z
UID:10000045-1725958800-1726086600@www.trinity.qld.edu.au
SUMMARY:Trinity College Queensland Open Days - September 2024
DESCRIPTION:Are you curious about theology and interested in furthering your studies in 2025?   \nTrinity College QLD invites you to our September OPEN DAYS where you can immerse yourself in our learning community by spending a “Day in the Life of” a Trinity student. (Or half a day – whatever suits you!) \nJoin us on campus or online in one or more of our classes on Tuesday 10 OR Wednesday 11 September.  \nYou can choose from a variety of lectures\, join us for chapel\, enjoy lunch with us\, meet the lecturers\, and interact with the community. You can also ask any questions you have and explore how studying at Trinity could fit into your lifestyle. \nCheck out the OPEN DAY SCHEDULE below to see the lectures that are available over the two days. You can decide whether you want to attend the day or night sessions on either of the days. (If you’re really keen\, feel free to attend the full 2 days!) \nRegister Here \nPlease note that you can attend as few or as many lectures as you like throughout the day – onsite or via a zoom link. (You are invited to attend the first hour of any lecture and then have a chat with a member of our team about your study goals at Trinity.)    \nPlease also note that Tuesday’s DAY SESSION will include a chapel service and lunch that you can attend (available to in-person attendees only).  
URL:https://www.trinity.qld.edu.au/event/open-days-sept-2024/
LOCATION:Trinity College Campus\, Level 1\, 60 Bayliss Street\, Auchenflower\, QLD\, 4066\, Australia
CATEGORIES:Open Evenings
ATTACH;FMTTYPE=image/webp:https://www.trinity.qld.edu.au/wp-content/uploads/2024/03/Sept-Open-Days-Facebook-Cover-scaled.webp
END:VEVENT
END:VCALENDAR