BEGIN:VCALENDAR
VERSION:2.0
PRODID:-//Trinity College Queensland - ECPv6.15.20//NONSGML v1.0//EN
CALSCALE:GREGORIAN
METHOD:PUBLISH
X-WR-CALNAME:Trinity College Queensland
X-ORIGINAL-URL:https://www.trinity.qld.edu.au
X-WR-CALDESC:Events for Trinity College Queensland
REFRESH-INTERVAL;VALUE=DURATION:PT1H
X-Robots-Tag:noindex
X-PUBLISHED-TTL:PT1H
BEGIN:VTIMEZONE
TZID:Australia/Brisbane
BEGIN:STANDARD
TZOFFSETFROM:+1000
TZOFFSETTO:+1000
TZNAME:AEST
DTSTART:20210101T000000
END:STANDARD
END:VTIMEZONE
BEGIN:VEVENT
DTSTART;TZID=Australia/Brisbane:20220809T130000
DTEND;TZID=Australia/Brisbane:20220809T163000
DTSTAMP:20260426T100333
CREATED:20211119T013304Z
LAST-MODIFIED:20220330T035804Z
UID:10000025-1660050000-1660062600@www.trinity.qld.edu.au
SUMMARY:Spiritual Practices
DESCRIPTION:Maturing discipleship is informed by spiritual practices that draw people deeper into God’s life.  This course is aimed at providing practical tools and skills for people to implement within their own walk with God.  It will also provide participants with a clear missional imperative as to why a deeper relationship with God empowers practices that enable us to live more deeply with others. \nFacilitator: Paul Jones \nCOST: \n\n$40 (onsite)\n$40 (live-stream) an email will be sent with details for live-streaming\n$100 (Church Groups onsite)\n$100 (Church Groups online) an email will be sent with details for live-streaming\n\nCandidates for Ministry \n\nFree (onsite)\nFree (live-stream) an email will be sent with details for live-streaming
URL:https://www.trinity.qld.edu.au/event/spiritual-practices-2/
LOCATION:Trinity College Campus\, Level 1\, 60 Bayliss Street\, Auchenflower\, QLD\, 4066\, Australia
CATEGORIES:Short Courses
ATTACH;FMTTYPE=image/jpeg:https://www.trinity.qld.edu.au/wp-content/uploads/2021/11/6.jpg
ORGANIZER;CN="Dr Paul Jones":MAILTO:Paul.Jones@trinity.qld.edu.au
END:VEVENT
BEGIN:VEVENT
DTSTART;TZID=Australia/Brisbane:20220809T090000
DTEND;TZID=Australia/Brisbane:20220809T160000
DTSTAMP:20260426T100333
CREATED:20220331T013418Z
LAST-MODIFIED:20220331T013604Z
UID:10000033-1660035600-1660060800@www.trinity.qld.edu.au
SUMMARY:August Short Course Special
DESCRIPTION:Save when you enrol in both of our August Short Courses \nDiscerning God’s Leading and Spiritual Practices  \nPresented by Paul Jones\nTuesday 9 August\n9am – 12.30pm and 1 – 4.30pm\nOnsite and online\n$40 each per person\, or $60 for both \n  \nDiscerning God’s Leading  \nParticipants will be equipped with skills and practices that allow for a deeper knowledge and understanding of God’s will and leading in their life.  \nSpiritual Practices \nSpiritual practices draw people deeper into life with God. This course will provide practical tools and skills to help you experience a more vibrant life of Christian discipleship.
URL:https://www.trinity.qld.edu.au/event/august-short-course-special/
CATEGORIES:Short Courses
ORGANIZER;CN="Dr Paul Jones":MAILTO:Paul.Jones@trinity.qld.edu.au
END:VEVENT
BEGIN:VEVENT
DTSTART;TZID=Australia/Brisbane:20220809T090000
DTEND;TZID=Australia/Brisbane:20220809T123000
DTSTAMP:20260426T100333
CREATED:20211119T012153Z
LAST-MODIFIED:20220330T034820Z
UID:10000024-1660035600-1660048200@www.trinity.qld.edu.au
SUMMARY:Discerning God’s Leading
DESCRIPTION:This course provides participants with learning opportunities that equip them with skills and practices that allow for a deeper knowledge and understanding of God’s will and leading in their life (Colossians 1:9-10). ‘Discerning God’s Leading’ is perfect for people at all different places in their life in Christ and provides them with the opportunity to reflect and discern God’s future for them.\n\nThere will also be opportunity through this course for those participating in Uniting Church in Australia discernment processes\, such as the Period of Discernment\, to engage in compulsory study for this pathway.\n\nFacilitator: Paul Jones\n\nCOST \n\n$40 (onsite)\n$40 (live-stream) an email will be sent with details for live-streaming\n\nCandidates for Ministry \n\nFree (onsite)\nFree (live-stream) an email will be sent with details for live-streaming
URL:https://www.trinity.qld.edu.au/event/discerning-gods-leading-2/
LOCATION:Trinity College Campus\, Level 1\, 60 Bayliss Street\, Auchenflower\, QLD\, 4066\, Australia
CATEGORIES:Short Courses
ATTACH;FMTTYPE=image/jpeg:https://www.trinity.qld.edu.au/wp-content/uploads/2021/11/short-course-discerning-leading-scaled.jpg
ORGANIZER;CN="Dr Paul Jones":MAILTO:Paul.Jones@trinity.qld.edu.au
END:VEVENT
END:VCALENDAR