BEGIN:VCALENDAR
VERSION:2.0
PRODID:-//Trinity College Queensland - ECPv6.15.20//NONSGML v1.0//EN
CALSCALE:GREGORIAN
METHOD:PUBLISH
X-ORIGINAL-URL:https://www.trinity.qld.edu.au
X-WR-CALDESC:Events for Trinity College Queensland
REFRESH-INTERVAL;VALUE=DURATION:PT1H
X-Robots-Tag:noindex
X-PUBLISHED-TTL:PT1H
BEGIN:VTIMEZONE
TZID:Australia/Brisbane
BEGIN:STANDARD
TZOFFSETFROM:+1000
TZOFFSETTO:+1000
TZNAME:AEST
DTSTART:20210101T000000
END:STANDARD
END:VTIMEZONE
BEGIN:VEVENT
DTSTART;TZID=Australia/Brisbane:20230313T130000
DTEND;TZID=Australia/Brisbane:20230313T160000
DTSTAMP:20260423T200206
CREATED:20230120T033701Z
LAST-MODIFIED:20230124T044911Z
UID:10000039-1678712400-1678723200@www.trinity.qld.edu.au
SUMMARY:Refresher Course: Code of Ethics Foundations
DESCRIPTION:This short course is designed as a refresher for those who have previously completed the course on the Code of Ethics and Ministry Practice.\nFacilitated by Sue Crittall. \nCOST: \n\n$40 (onsite)\n$40 (live-stream) an email will be sent with details for live-streaming\n$100 (Church Groups onsite)\n$100 (Church Groups online) an email will be sent with details for live-streaming\n\nCandidates for Ministry \n\nFree (onsite)\nFree (live-stream) an email will be sent with details for live-streaming
URL:https://www.trinity.qld.edu.au/event/refresher-course-code-of-ethics-foundations-2/
LOCATION:Trinity College Campus\, Level 1\, 60 Bayliss Street\, Auchenflower\, QLD\, 4066\, Australia
CATEGORIES:Short Courses
ATTACH;FMTTYPE=image/jpeg:https://www.trinity.qld.edu.au/wp-content/uploads/2022/03/Code-of-Ethics.jpg
ORGANIZER;CN="Rev Nigel Rogers":MAILTO:Nigel.Rogers@trinity.qld.edu.au
END:VEVENT
BEGIN:VEVENT
DTSTART;TZID=Australia/Brisbane:20230209T093000
DTEND;TZID=Australia/Brisbane:20230209T153000
DTSTAMP:20260423T200206
CREATED:20221207T074126Z
LAST-MODIFIED:20221207T074153Z
UID:10000016-1675935000-1675956600@www.trinity.qld.edu.au
SUMMARY:UCA Governance and Regulatory Life - 2023
DESCRIPTION:This course focuses on how the polity of the UCA functions.  Participants will come away with a clear overview of what the Basis of Union refers to as\, the ‘government in the church’.  The course will engage participants with the interconciliar nature of the UCA and explore the church’s decision-making process. This course is necessary for Pastors needing to fulfil core competencies. \nFacilitator: Nigel Rogers  \nCost \n\n$50 per person (onsite)\n$50 (live-stream) an email will be sent with details for live-streaming\nCapped at $100 per Church (onsite)\nCapped at $100 per Church (live-stream) an email will be sent with details for live-streaming\n\nTrinity Candidates for Ministry \n\nFree (onsite)\nFree (live-stream) an email will be sent with details for live-streaming
URL:https://www.trinity.qld.edu.au/event/uca-governance-and-regulatory-life-2023/
LOCATION:Trinity College Campus\, Level 1\, 60 Bayliss Street\, Auchenflower\, QLD\, 4066\, Australia
CATEGORIES:Short Courses
ATTACH;FMTTYPE=image/jpeg:https://www.trinity.qld.edu.au/wp-content/uploads/2021/12/8.jpg
ORGANIZER;CN="Rev Nigel Rogers":MAILTO:Nigel.Rogers@trinity.qld.edu.au
END:VEVENT
BEGIN:VEVENT
DTSTART;TZID=Australia/Brisbane:20230208T190000
DTEND;TZID=Australia/Brisbane:20230208T210000
DTSTAMP:20260423T200206
CREATED:20221207T074700Z
LAST-MODIFIED:20221215T002657Z
UID:10000017-1675882800-1675890000@www.trinity.qld.edu.au
SUMMARY:Church Council Essentials - 2023 (over two evenings)
DESCRIPTION:This short course goes over two nights ( 8 & 9 February) and will provide participants with a clear understanding of the role and responsibilities of a Church Council. The team dynamics of a church council will also be explored. This course is ideal for new and existing church council members. It is specifically geared to ensure that church councils can flourish and work as effectively as possible. \nAll sessions will be online learning. An email will be sent with login details. \nFacilitator: Nigel Rogers \nCost \n\n$50 (live-stream) an email will be sent with details for live-streaming\nCapped at $100 per Church (live-stream) an email will be sent with details for live-streaming\n\nTrinity Candidates for Ministry \n\nFree (live-stream) an email will be sent with details for live-streaming
URL:https://www.trinity.qld.edu.au/event/church-council-essentials-2023-evenings/
LOCATION:Trinity College Campus\, Level 1\, 60 Bayliss Street\, Auchenflower\, QLD\, 4066\, Australia
CATEGORIES:Short Courses
ATTACH;FMTTYPE=image/jpeg:https://www.trinity.qld.edu.au/wp-content/uploads/2021/12/council-essentials-scaled.jpg
ORGANIZER;CN="Rev Nigel Rogers":MAILTO:Nigel.Rogers@trinity.qld.edu.au
END:VEVENT
BEGIN:VEVENT
DTSTART;TZID=Australia/Brisbane:20230208T093000
DTEND;TZID=Australia/Brisbane:20230208T153000
DTSTAMP:20260423T200206
CREATED:20221207T070107Z
LAST-MODIFIED:20221207T070434Z
UID:10000015-1675848600-1675870200@www.trinity.qld.edu.au
SUMMARY:UCA Identity\, Purpose and Future – 2023
DESCRIPTION:This course is designed to give people a detailed understanding of the UCA’s Basis of Union. It will focus on the theological influence of the ‘Mission of God’ and the ‘Faith of the Church’ on the Basis of Union. The Identity\, Purpose and Future of the Uniting Church is informed by the Basis of Union therefore\, inspiration from the past will aim to contribute to the UCA’s capacity to serve the mission of God in the future. This course is necessary for POD participants and Pastors needing to fulfil core competencies.  \nFacilitator: Nigel Rogers \nCost \n\n$50 per person (onsite)\n$50 (live-stream) an email will be sent with details for live-streaming\nCapped at $100 per Church (onsite)\nCapped at $100 per Church (live-stream) an email will be sent with details for live-streaming\n\nTrinity Candidates for Ministry \n\nFree (onsite)\nFree (live-stream) an email will be sent with details for live-streaming
URL:https://www.trinity.qld.edu.au/event/uca-identity-purpose-and-future-2023/
LOCATION:Trinity College Campus\, Level 1\, 60 Bayliss Street\, Auchenflower\, QLD\, 4066\, Australia
ATTACH;FMTTYPE=image/jpeg:https://www.trinity.qld.edu.au/wp-content/uploads/2019/11/UCA-Identity-Purpose-and-Future.jpg
ORGANIZER;CN="Rev Nigel Rogers":MAILTO:Nigel.Rogers@trinity.qld.edu.au
END:VEVENT
BEGIN:VEVENT
DTSTART;TZID=Australia/Brisbane:20230207T093000
DTEND;TZID=Australia/Brisbane:20230207T153000
DTSTAMP:20260423T200206
CREATED:20221207T064823Z
LAST-MODIFIED:20221215T004637Z
UID:10000014-1675762200-1675783800@www.trinity.qld.edu.au
SUMMARY:Mentoring 2023
DESCRIPTION:This course will provide people with fundamental skills for mentoring. Mentoring relationships exist in a range of contexts throughout the church including mentoring in Phase 1 (Period of Discernment) and Phase 2 (Ministry Practicum) formation. This course will set a foundation from which mentors can effectively engage in mentoring relationships across all contexts within the church. It is an ideal course for people who provide mentoring within a local congregation all the way through to those engaging in executive mentoring. \nFacilitator: Nigel Rogers et al. \nCost \n\n$50 per person (onsite)\n$50 (live-stream) an email will be sent with details for live-streaming\nCapped at $100 per Church (onsite)\nCapped at $100 per Church (live-stream) an email will be sent with details for live-streaming\n\nTrinity Candidates for Ministry \n\nFree (onsite)\nFree (live-stream) an email will be sent with details for live-streaming
URL:https://www.trinity.qld.edu.au/event/mentoring-2023/
LOCATION:Trinity College Campus\, Level 1\, 60 Bayliss Street\, Auchenflower\, QLD\, 4066\, Australia
CATEGORIES:Short Courses
ATTACH;FMTTYPE=image/jpeg:https://www.trinity.qld.edu.au/wp-content/uploads/2021/11/jason-goodman-Ti7LQ0r-zy4-unsplash-scaled.jpg
ORGANIZER;CN="Rev Nigel Rogers":MAILTO:Nigel.Rogers@trinity.qld.edu.au
END:VEVENT
BEGIN:VEVENT
DTSTART;TZID=Australia/Brisbane:20220527T133000
DTEND;TZID=Australia/Brisbane:20220527T163000
DTSTAMP:20260423T200206
CREATED:20220331T041331Z
LAST-MODIFIED:20220411T011447Z
UID:10000034-1653658200-1653669000@www.trinity.qld.edu.au
SUMMARY:Refresher Course: Code of Ethics Foundations
DESCRIPTION:This short course is designed as a refresher for those who have previously completed the course on the Code of Ethics and Ministry Practice.\nFacilitated by Sue Crittall. \nCOST: \n\n$40 (onsite)\n$40 (live-stream) an email will be sent with details for live-streaming\n$100 (Church Groups onsite)\n$100 (Church Groups online) an email will be sent with details for live-streaming\n\nCandidates for Ministry \n\nFree (onsite)\nFree (live-stream) an email will be sent with details for live-streaming
URL:https://www.trinity.qld.edu.au/event/refresher-course-code-of-ethics-foundations/
LOCATION:Trinity College Campus\, Level 1\, 60 Bayliss Street\, Auchenflower\, QLD\, 4066\, Australia
CATEGORIES:Short Courses
ATTACH;FMTTYPE=image/jpeg:https://www.trinity.qld.edu.au/wp-content/uploads/2022/03/Code-of-Ethics.jpg
ORGANIZER;CN="Rev Nigel Rogers":MAILTO:Nigel.Rogers@trinity.qld.edu.au
END:VEVENT
BEGIN:VEVENT
DTSTART;TZID=Australia/Brisbane:20220526T090000
DTEND;TZID=Australia/Brisbane:20220526T160000
DTSTAMP:20260423T200206
CREATED:20220331T011026Z
LAST-MODIFIED:20220331T011043Z
UID:10000021-1653555600-1653580800@www.trinity.qld.edu.au
SUMMARY:Sacramental Practices
DESCRIPTION:The practice of the sacraments is so important in the rhythm of the Christian life. This short course will explore the rhythms of grace at work through Baptism and Holy Communion. This rhythm creates a basis for understanding the “how” of sacramental practices which this course also covers. Completing this course\, and its relevant assessment\, are essential components for  Presbytery approval for Lay Presiding of the sacraments. \nFacilitator: Nigel Rogers\n\nCOST \n\n$40 (onsite)\n$40 (live-stream) an email will be sent with details for live-streaming\n$100 (Church groups onsite)\n$100 (Church groups live-stream) an email will be sent with details for live-streaming\n\nCandidates for Ministry \n\nFree (onsite)\nFree (live-stream) an email will be sent with details for live-streaming
URL:https://www.trinity.qld.edu.au/event/sacramental-practices-5/
LOCATION:Trinity College Campus\, Level 1\, 60 Bayliss Street\, Auchenflower\, QLD\, 4066\, Australia
CATEGORIES:Short Courses
ATTACH;FMTTYPE=image/jpeg:https://www.trinity.qld.edu.au/wp-content/uploads/2022/03/sacraments-scaled.jpg
ORGANIZER;CN="Rev Nigel Rogers":MAILTO:Nigel.Rogers@trinity.qld.edu.au
END:VEVENT
BEGIN:VEVENT
DTSTART;TZID=Australia/Brisbane:20220314T130000
DTEND;TZID=Australia/Brisbane:20220314T163000
DTSTAMP:20260423T200206
CREATED:20211201T021149Z
LAST-MODIFIED:20220312T104802Z
UID:10000022-1647262800-1647275400@www.trinity.qld.edu.au
SUMMARY:UCA Governance and Regulatory Life
DESCRIPTION:A complementary course to Uniting Church in Australia Identity\, Purpose & Future\, which looks at who\, why and where we are as the Uniting Church\, UCA Governance and Regulatory Life examines how the church functions as a regulated organisation. \nParticipants will come away with a clear overview of what the Basis of Union refers to as\, the “government in the church” and the decision-making processes and functions of this interconciliar community of being. \nWho should do it? Ministers\, candidates\, and anyone in a pastor role will hugely benefit from it. Anyone on UCA committees\, boards and councils should do it\, and people right across the life of the church will find it useful to get the full picture of how the Uniting Church relates to and operates within the community. \nFacilitator: Nigel Rogers \nCOST \n\n$40 (live-stream) an email will be sent with details for live-streaming\n\nCandidates for Ministry \n\nFree (live-stream) an email will be sent with details for live-streaming
URL:https://www.trinity.qld.edu.au/event/uca-governance-and-regulatory-life-2/
LOCATION:Trinity College Campus\, Level 1\, 60 Bayliss Street\, Auchenflower\, QLD\, 4066\, Australia
CATEGORIES:Short Courses
ATTACH;FMTTYPE=image/jpeg:https://www.trinity.qld.edu.au/wp-content/uploads/2021/12/8.jpg
ORGANIZER;CN="Rev Nigel Rogers":MAILTO:Nigel.Rogers@trinity.qld.edu.au
END:VEVENT
END:VCALENDAR